Package: CAnD Version: 1.26.0 Command: /Library/Frameworks/R.framework/Resources/bin/R CMD check --install=check:CAnD.install-out.txt --library=/Library/Frameworks/R.framework/Resources/library --no-vignettes --timings CAnD_1.26.0.tar.gz StartedAt: 2022-04-12 11:10:32 -0400 (Tue, 12 Apr 2022) EndedAt: 2022-04-12 11:11:30 -0400 (Tue, 12 Apr 2022) EllapsedTime: 57.3 seconds RetCode: 0 Status: OK CheckDir: CAnD.Rcheck Warnings: 0