Package: CATALYST Version: 1.18.1 Command: C:\Users\biocbuild\bbs-3.14-bioc\R\bin\R.exe CMD check --force-multiarch --install=check:CATALYST.install-out.txt --library=C:\Users\biocbuild\bbs-3.14-bioc\R\library --no-vignettes --timings CATALYST_1.18.1.tar.gz StartedAt: 2022-04-12 16:51:11 -0400 (Tue, 12 Apr 2022) EndedAt: 2022-04-12 17:11:53 -0400 (Tue, 12 Apr 2022) EllapsedTime: 1242.2 seconds RetCode: 0 Status: OK CheckDir: CATALYST.Rcheck Warnings: 0