Package: BufferedMatrix Version: 1.58.0 Command: rm -rf BufferedMatrix.buildbin-libdir && mkdir BufferedMatrix.buildbin-libdir && C:\Users\biocbuild\bbs-3.14-bioc\R\bin\R.exe CMD INSTALL --merge-multiarch --build --library=BufferedMatrix.buildbin-libdir BufferedMatrix_1.58.0.tar.gz StartedAt: 2022-04-13 05:45:15 -0400 (Wed, 13 Apr 2022) EndedAt: 2022-04-13 05:45:39 -0400 (Wed, 13 Apr 2022) EllapsedTime: 24.4 seconds RetCode: 0 Status: OK PackageFile: BufferedMatrix_1.58.0.zip PackageFileSize: 640.9 KiB