Package: BiocParallel Version: 1.28.3 Command: chmod a+r BiocParallel -R && C:\Users\biocbuild\bbs-3.14-bioc\R\bin\R.exe CMD build --keep-empty-dirs --no-resave-data BiocParallel StartedAt: 2022-04-12 08:21:15 -0400 (Tue, 12 Apr 2022) EndedAt: 2022-04-12 08:24:23 -0400 (Tue, 12 Apr 2022) EllapsedTime: 188.5 seconds RetCode: 0 Status: OK PackageFile: BiocParallel_1.28.3.tar.gz PackageFileSize: 865.9 KiB