Package: BiocParallel Version: 1.28.3 Command: rm -rf BiocParallel.buildbin-libdir && mkdir BiocParallel.buildbin-libdir && /Users/biocbuild/BBS/utils/build-universal.sh BiocParallel_1.28.3.tar.gz /Library/Frameworks/R.framework/Resources/bin/R BiocParallel.buildbin-libdir StartedAt: 2022-04-12 20:22:53 -0400 (Tue, 12 Apr 2022) EndedAt: 2022-04-12 20:23:17 -0400 (Tue, 12 Apr 2022) EllapsedTime: 24.0 seconds RetCode: 0 Status: OK PackageFile: BiocParallel_1.28.3.tgz PackageFileSize: 1.312 MiB