Package: BUSseq Version: 1.0.0 Command: C:\Users\biocbuild\bbs-3.14-bioc\R\bin\R.exe CMD check --force-multiarch --install=check:BUSseq.install-out.txt --library=C:\Users\biocbuild\bbs-3.14-bioc\R\library --no-vignettes --timings BUSseq_1.0.0.tar.gz StartedAt: 2022-04-12 16:43:16 -0400 (Tue, 12 Apr 2022) EndedAt: 2022-04-12 16:54:08 -0400 (Tue, 12 Apr 2022) EllapsedTime: 651.8 seconds RetCode: 0 Status: OK CheckDir: BUSseq.Rcheck Warnings: 0