Package: ArrayExpress Version: 1.54.0 Command: /Library/Frameworks/R.framework/Resources/bin/R CMD build --keep-empty-dirs --no-resave-data ArrayExpress StartedAt: 2022-04-12 04:40:57 -0400 (Tue, 12 Apr 2022) EndedAt: 2022-04-12 04:43:26 -0400 (Tue, 12 Apr 2022) EllapsedTime: 148.9 seconds RetCode: 0 Status: OK PackageFile: ArrayExpress_1.54.0.tar.gz PackageFileSize: 189.7 KiB