Package: AnnotationHub Version: 3.2.2 Command: /home/biocbuild/bbs-3.14-bioc/R/bin/R CMD INSTALL AnnotationHub StartedAt: 2022-04-12 03:18:47 -0400 (Tue, 12 Apr 2022) EndedAt: 2022-04-12 03:19:04 -0400 (Tue, 12 Apr 2022) EllapsedTime: 17.6 seconds RetCode: 0 Status: OK