Package: AnnotationForge Version: 1.36.0 Command: chmod a+r AnnotationForge -R && C:\Users\biocbuild\bbs-3.14-bioc\R\bin\R.exe CMD build --keep-empty-dirs --no-resave-data AnnotationForge StartedAt: 2022-04-12 07:52:28 -0400 (Tue, 12 Apr 2022) EndedAt: 2022-04-12 08:11:35 -0400 (Tue, 12 Apr 2022) EllapsedTime: 1147.0 seconds RetCode: 0 Status: OK PackageFile: AnnotationForge_1.36.0.tar.gz PackageFileSize: 3.704 MiB