Package: AnnotationForge Version: 1.36.0 Command: /home/biocbuild/bbs-3.14-bioc/R/bin/R CMD INSTALL AnnotationForge StartedAt: 2022-04-12 03:18:38 -0400 (Tue, 12 Apr 2022) EndedAt: 2022-04-12 03:18:54 -0400 (Tue, 12 Apr 2022) EllapsedTime: 16.1 seconds RetCode: 0 Status: OK