Package: AnnotationDbi Version: 1.56.2 Command: C:\Users\biocbuild\bbs-3.14-bioc\R\bin\R.exe CMD check --force-multiarch --install=check:AnnotationDbi.install-out.txt --library=C:\Users\biocbuild\bbs-3.14-bioc\R\library --no-vignettes --timings AnnotationDbi_1.56.2.tar.gz StartedAt: 2022-04-12 15:33:40 -0400 (Tue, 12 Apr 2022) EndedAt: 2022-04-12 15:42:26 -0400 (Tue, 12 Apr 2022) EllapsedTime: 525.8 seconds RetCode: 0 Status: OK CheckDir: AnnotationDbi.Rcheck Warnings: 0