Package: AnnotationDbi Version: 1.56.2 Command: rm -rf AnnotationDbi.buildbin-libdir && mkdir AnnotationDbi.buildbin-libdir && /Users/biocbuild/BBS/utils/build-universal.sh AnnotationDbi_1.56.2.tar.gz /Library/Frameworks/R.framework/Resources/bin/R AnnotationDbi.buildbin-libdir StartedAt: 2022-04-12 20:18:39 -0400 (Tue, 12 Apr 2022) EndedAt: 2022-04-12 20:19:23 -0400 (Tue, 12 Apr 2022) EllapsedTime: 44.1 seconds RetCode: 0 Status: OK PackageFile: AnnotationDbi_1.56.2.tgz PackageFileSize: 4.936 MiB