Package: AneuFinder Version: 1.22.0 Command: /home/biocbuild/bbs-3.14-bioc/R/bin/R CMD INSTALL AneuFinder StartedAt: 2022-04-12 03:22:32 -0400 (Tue, 12 Apr 2022) EndedAt: 2022-04-12 03:23:06 -0400 (Tue, 12 Apr 2022) EllapsedTime: 33.7 seconds RetCode: 0 Status: OK