Package: AneuFinder Version: 1.22.0 Command: /home/biocbuild/bbs-3.14-bioc/R/bin/R CMD build --keep-empty-dirs --no-resave-data AneuFinder StartedAt: 2022-04-12 03:52:05 -0400 (Tue, 12 Apr 2022) EndedAt: 2022-04-12 03:54:53 -0400 (Tue, 12 Apr 2022) EllapsedTime: 167.5 seconds RetCode: 0 Status: OK PackageFile: AneuFinder_1.22.0.tar.gz PackageFileSize: 2.022 MiB