Package: Anaquin Version: 2.18.0 Command: /Library/Frameworks/R.framework/Resources/bin/R CMD build --keep-empty-dirs --no-resave-data Anaquin StartedAt: 2022-04-12 04:38:46 -0400 (Tue, 12 Apr 2022) EndedAt: 2022-04-12 04:39:21 -0400 (Tue, 12 Apr 2022) EllapsedTime: 35.3 seconds RetCode: 0 Status: OK PackageFile: Anaquin_2.18.0.tar.gz PackageFileSize: 442.4 KiB