Package: AGDEX Version: 1.42.0 Command: chmod a+r AGDEX -R && C:\Users\biocbuild\bbs-3.14-bioc\R\bin\R.exe CMD build --keep-empty-dirs --no-resave-data AGDEX StartedAt: 2022-04-12 07:47:23 -0400 (Tue, 12 Apr 2022) EndedAt: 2022-04-12 07:48:01 -0400 (Tue, 12 Apr 2022) EllapsedTime: 37.6 seconds RetCode: 0 Status: OK PackageFile: AGDEX_1.42.0.tar.gz PackageFileSize: 534.5 KiB