Package: ADaCGH2 Version: 2.34.0 Command: /Library/Frameworks/R.framework/Resources/bin/R CMD build --keep-empty-dirs --no-resave-data ADaCGH2 StartedAt: 2022-04-12 04:35:44 -0400 (Tue, 12 Apr 2022) EndedAt: 2022-04-12 04:38:40 -0400 (Tue, 12 Apr 2022) EllapsedTime: 176.2 seconds RetCode: 0 Status: OK PackageFile: ADaCGH2_2.34.0.tar.gz PackageFileSize: 1.029 MiB