Package: ABSSeq Version: 1.48.0 Command: chmod a+r ABSSeq -R && C:\Users\biocbuild\bbs-3.14-bioc\R\bin\R.exe CMD build --keep-empty-dirs --no-resave-data ABSSeq StartedAt: 2022-04-12 07:44:08 -0400 (Tue, 12 Apr 2022) EndedAt: 2022-04-12 07:46:01 -0400 (Tue, 12 Apr 2022) EllapsedTime: 113.5 seconds RetCode: 0 Status: OK PackageFile: ABSSeq_1.48.0.tar.gz PackageFileSize: 1.033 MiB