Package: ABSSeq Version: 1.48.0 Command: /Library/Frameworks/R.framework/Resources/bin/R CMD build --keep-empty-dirs --no-resave-data ABSSeq StartedAt: 2022-04-12 04:35:44 -0400 (Tue, 12 Apr 2022) EndedAt: 2022-04-12 04:38:04 -0400 (Tue, 12 Apr 2022) EllapsedTime: 140.5 seconds RetCode: 0 Status: OK PackageFile: ABSSeq_1.48.0.tar.gz PackageFileSize: 1.023 MiB