git_url: https://git.bioconductor.org/packages/SingscoreAMLMutations git_branch: RELEASE_3_13 git_last_commit: cea2572 git_last_commit_date: 2021-05-19 11:20:05 -0400 (Wed, 19 May 2021) Package: SingscoreAMLMutations Version: 1.8.0 Maintainer: Dharmesh D. Bhuva MaintainerEmail: bhuva.d at wehi.edu.au