git_url: https://git.bioconductor.org/packages/tinesath1cdf git_branch: RELEASE_3_13 git_last_commit: 6694a9b git_last_commit_date: 2021-05-19 11:27:21 -0400 (Wed, 19 May 2021) Package: tinesath1cdf Version: 1.30.0 Maintainer: Tine Casneuf MaintainerEmail: tine at ebi.ac.uk