Package: timecoursedata Version: 1.2.0 Command: /home/biocbuild/bbs-3.13-bioc/R/bin/R CMD check --install=check:timecoursedata.install-out.txt --library=/home/biocbuild/bbs-3.13-bioc/R/library --no-vignettes --timings timecoursedata_1.2.0.tar.gz StartedAt: 2021-10-16 14:10:28 -0400 (Sat, 16 Oct 2021) EndedAt: 2021-10-16 14:12:56 -0400 (Sat, 16 Oct 2021) EllapsedTime: 148.8 seconds RetCode: 0 Status: OK CheckDir: timecoursedata.Rcheck Warnings: 0