Package: tartare Version: 1.6.0 Command: /home/biocbuild/bbs-3.13-bioc/R/bin/R CMD INSTALL tartare StartedAt: 2021-10-16 11:14:32 -0400 (Sat, 16 Oct 2021) EndedAt: 2021-10-16 11:14:46 -0400 (Sat, 16 Oct 2021) EllapsedTime: 13.6 seconds RetCode: 0 Status: OK