Package: synapterdata Version: 1.30.0 Command: /home/biocbuild/bbs-3.13-bioc/R/bin/R CMD build --keep-empty-dirs --no-resave-data synapterdata StartedAt: 2021-10-16 12:38:29 -0400 (Sat, 16 Oct 2021) EndedAt: 2021-10-16 12:39:04 -0400 (Sat, 16 Oct 2021) EllapsedTime: 34.5 seconds RetCode: 0 Status: OK PackageFile: synapterdata_1.30.0.tar.gz PackageFileSize: 418.4 MiB