git_url: https://git.bioconductor.org/packages/seqc git_branch: RELEASE_3_13 git_last_commit: b44b94d git_last_commit_date: 2021-05-19 11:49:03 -0400 (Wed, 19 May 2021) Package: seqc Version: 1.26.0 Maintainer: Yang Liao and Wei Shi MaintainerEmail: Wei.Shi at onjcri.org.au