Package: seq2pathway.data Version: 1.24.0 Command: /home/biocbuild/bbs-3.13-bioc/R/bin/R CMD INSTALL seq2pathway.data StartedAt: 2021-10-16 11:03:56 -0400 (Sat, 16 Oct 2021) EndedAt: 2021-10-16 11:04:14 -0400 (Sat, 16 Oct 2021) EllapsedTime: 17.9 seconds RetCode: 0 Status: OK