Package: seq2pathway.data Version: 1.24.0 Command: /home/biocbuild/bbs-3.13-bioc/R/bin/R CMD check --install=check:seq2pathway.data.install-out.txt --library=/home/biocbuild/bbs-3.13-bioc/R/library --no-vignettes --timings seq2pathway.data_1.24.0.tar.gz StartedAt: 2021-10-16 13:59:44 -0400 (Sat, 16 Oct 2021) EndedAt: 2021-10-16 14:00:23 -0400 (Sat, 16 Oct 2021) EllapsedTime: 39.4 seconds RetCode: 0 Status: WARNINGS CheckDir: seq2pathway.data.Rcheck Warnings: 1