git_url: https://git.bioconductor.org/packages/scpdata git_branch: RELEASE_3_13 git_last_commit: 7512de1 git_last_commit_date: 2021-05-19 12:11:35 -0400 (Wed, 19 May 2021) Package: scpdata Version: 1.0.0 Maintainer: Christophe Vanderaa MaintainerEmail: christophe.vanderaa at uclouvain.be