Package: sampleClassifierData Version: 1.16.0 Command: /home/biocbuild/bbs-3.13-bioc/R/bin/R CMD build --keep-empty-dirs --no-resave-data sampleClassifierData StartedAt: 2021-10-16 12:32:53 -0400 (Sat, 16 Oct 2021) EndedAt: 2021-10-16 12:33:16 -0400 (Sat, 16 Oct 2021) EllapsedTime: 23.1 seconds RetCode: 0 Status: OK PackageFile: sampleClassifierData_1.16.0.tar.gz PackageFileSize: 15.54 MiB