Package: rcellminerData Version: 2.14.0 Command: /home/biocbuild/bbs-3.13-bioc/R/bin/R CMD INSTALL rcellminerData StartedAt: 2021-10-16 11:06:06 -0400 (Sat, 16 Oct 2021) EndedAt: 2021-10-16 11:06:59 -0400 (Sat, 16 Oct 2021) EllapsedTime: 53.4 seconds RetCode: 0 Status: OK