Package: rcellminerData Version: 2.14.0 Command: /home/biocbuild/bbs-3.13-bioc/R/bin/R CMD check --install=check:rcellminerData.install-out.txt --library=/home/biocbuild/bbs-3.13-bioc/R/library --no-vignettes --timings rcellminerData_2.14.0.tar.gz StartedAt: 2021-10-16 13:49:41 -0400 (Sat, 16 Oct 2021) EndedAt: 2021-10-16 13:52:55 -0400 (Sat, 16 Oct 2021) EllapsedTime: 194.4 seconds RetCode: 0 Status: WARNINGS CheckDir: rcellminerData.Rcheck Warnings: 2