Package: rRDPData Version: 1.12.0 Command: /home/biocbuild/bbs-3.13-bioc/R/bin/R CMD check --install=check:rRDPData.install-out.txt --library=/home/biocbuild/bbs-3.13-bioc/R/library --no-vignettes --timings rRDPData_1.12.0.tar.gz StartedAt: 2021-10-16 13:54:02 -0400 (Sat, 16 Oct 2021) EndedAt: 2021-10-16 13:54:30 -0400 (Sat, 16 Oct 2021) EllapsedTime: 28.5 seconds RetCode: 0 Status: OK CheckDir: rRDPData.Rcheck Warnings: 0