Package: prostateCancerGrasso Version: 1.20.0 Command: /home/biocbuild/bbs-3.13-bioc/R/bin/R CMD build --keep-empty-dirs --no-resave-data prostateCancerGrasso StartedAt: 2021-10-16 12:27:55 -0400 (Sat, 16 Oct 2021) EndedAt: 2021-10-16 12:28:07 -0400 (Sat, 16 Oct 2021) EllapsedTime: 12.2 seconds RetCode: 0 Status: OK PackageFile: prostateCancerGrasso_1.20.0.tar.gz PackageFileSize: 25.23 MiB