git_url: https://git.bioconductor.org/packages/preciseTADhub git_branch: RELEASE_3_13 git_last_commit: 467a789 git_last_commit_date: 2021-05-19 12:11:18 -0400 (Wed, 19 May 2021) Package: preciseTADhub Version: 1.0.0 Maintainer: Spiro Stilianoudakis MaintainerEmail: stilianoudasc at vcu.edu