Package: parathyroidSE Version: 1.30.0 Command: /home/biocbuild/bbs-3.13-bioc/R/bin/R CMD check --install=check:parathyroidSE.install-out.txt --library=/home/biocbuild/bbs-3.13-bioc/R/library --no-vignettes --timings parathyroidSE_1.30.0.tar.gz StartedAt: 2021-10-16 13:43:22 -0400 (Sat, 16 Oct 2021) EndedAt: 2021-10-16 13:44:21 -0400 (Sat, 16 Oct 2021) EllapsedTime: 58.6 seconds RetCode: 0 Status: OK CheckDir: parathyroidSE.Rcheck Warnings: 0