Package: optimalFlowData Version: 1.4.0 Command: /home/biocbuild/bbs-3.13-bioc/R/bin/R CMD check --install=check:optimalFlowData.install-out.txt --library=/home/biocbuild/bbs-3.13-bioc/R/library --no-vignettes --timings optimalFlowData_1.4.0.tar.gz StartedAt: 2021-10-16 13:43:01 -0400 (Sat, 16 Oct 2021) EndedAt: 2021-10-16 13:43:54 -0400 (Sat, 16 Oct 2021) EllapsedTime: 53.3 seconds RetCode: 0 Status: WARNINGS CheckDir: optimalFlowData.Rcheck Warnings: 1