git_url: https://git.bioconductor.org/packages/optimalFlowData git_branch: RELEASE_3_13 git_last_commit: 82c6207 git_last_commit_date: 2021-05-19 12:10:20 -0400 (Wed, 19 May 2021) Package: optimalFlowData Version: 1.4.0 Maintainer: Hristo Inouzhe MaintainerEmail: hristo.inouzhe at gmail.com