Package: mcsurvdata Version: 1.10.0 Command: /home/biocbuild/bbs-3.13-bioc/R/bin/R CMD INSTALL mcsurvdata StartedAt: 2021-10-16 11:15:54 -0400 (Sat, 16 Oct 2021) EndedAt: 2021-10-16 11:16:04 -0400 (Sat, 16 Oct 2021) EllapsedTime: 9.6 seconds RetCode: 0 Status: OK