Package: mcsurvdata Version: 1.10.0 Command: /home/biocbuild/bbs-3.13-bioc/R/bin/R CMD build --keep-empty-dirs --no-resave-data mcsurvdata StartedAt: 2021-10-16 12:19:03 -0400 (Sat, 16 Oct 2021) EndedAt: 2021-10-16 12:19:35 -0400 (Sat, 16 Oct 2021) EllapsedTime: 31.8 seconds RetCode: 0 Status: OK PackageFile: mcsurvdata_1.10.0.tar.gz PackageFileSize: 229.4 KiB