Package: macrophage Version: 1.8.0 Command: /home/biocbuild/bbs-3.13-bioc/R/bin/R CMD INSTALL macrophage StartedAt: 2021-10-16 11:02:00 -0400 (Sat, 16 Oct 2021) EndedAt: 2021-10-16 11:02:43 -0400 (Sat, 16 Oct 2021) EllapsedTime: 43.4 seconds RetCode: 0 Status: OK