Package: macrophage Version: 1.8.0 Command: /home/biocbuild/bbs-3.13-bioc/R/bin/R CMD check --install=check:macrophage.install-out.txt --library=/home/biocbuild/bbs-3.13-bioc/R/library --no-vignettes --timings macrophage_1.8.0.tar.gz StartedAt: 2021-10-16 13:29:24 -0400 (Sat, 16 Oct 2021) EndedAt: 2021-10-16 13:30:04 -0400 (Sat, 16 Oct 2021) EllapsedTime: 40.0 seconds RetCode: 0 Status: OK CheckDir: macrophage.Rcheck Warnings: 0