git_url: https://git.bioconductor.org/packages/macrophage git_branch: RELEASE_3_13 git_last_commit: 4e74eec git_last_commit_date: 2021-05-19 12:07:30 -0400 (Wed, 19 May 2021) Package: macrophage Version: 1.8.0 Maintainer: Michael Love MaintainerEmail: michaelisaiahlove at gmail.com