Package: mCSEAdata Version: 1.12.0 Command: /home/biocbuild/bbs-3.13-bioc/R/bin/R CMD INSTALL mCSEAdata StartedAt: 2021-10-16 11:02:25 -0400 (Sat, 16 Oct 2021) EndedAt: 2021-10-16 11:02:41 -0400 (Sat, 16 Oct 2021) EllapsedTime: 15.6 seconds RetCode: 0 Status: OK