Package: leukemiasEset Version: 1.28.0 Command: /home/biocbuild/bbs-3.13-bioc/R/bin/R CMD INSTALL leukemiasEset StartedAt: 2021-10-16 11:06:17 -0400 (Sat, 16 Oct 2021) EndedAt: 2021-10-16 11:06:21 -0400 (Sat, 16 Oct 2021) EllapsedTime: 3.9 seconds RetCode: 0 Status: OK