Package: hgu133plus2CellScore Version: 1.12.0 Command: /home/biocbuild/bbs-3.13-bioc/R/bin/R CMD INSTALL hgu133plus2CellScore StartedAt: 2021-10-16 11:06:36 -0400 (Sat, 16 Oct 2021) EndedAt: 2021-10-16 11:07:02 -0400 (Sat, 16 Oct 2021) EllapsedTime: 25.8 seconds RetCode: 0 Status: OK