Package: hgu133plus2CellScore Version: 1.12.0 Command: /home/biocbuild/bbs-3.13-bioc/R/bin/R CMD check --install=check:hgu133plus2CellScore.install-out.txt --library=/home/biocbuild/bbs-3.13-bioc/R/library --no-vignettes --timings hgu133plus2CellScore_1.12.0.tar.gz StartedAt: 2021-10-16 13:21:25 -0400 (Sat, 16 Oct 2021) EndedAt: 2021-10-16 13:22:01 -0400 (Sat, 16 Oct 2021) EllapsedTime: 35.9 seconds RetCode: 0 Status: WARNINGS CheckDir: hgu133plus2CellScore.Rcheck Warnings: 1