Package: genomationData Version: 1.24.0 Command: /home/biocbuild/bbs-3.13-bioc/R/bin/R CMD INSTALL genomationData StartedAt: 2021-10-16 11:03:02 -0400 (Sat, 16 Oct 2021) EndedAt: 2021-10-16 11:03:26 -0400 (Sat, 16 Oct 2021) EllapsedTime: 23.7 seconds RetCode: 0 Status: OK