git_url: https://git.bioconductor.org/packages/genomationData git_branch: RELEASE_3_13 git_last_commit: 4c7afae git_last_commit_date: 2021-05-19 11:49:09 -0400 (Wed, 19 May 2021) Package: genomationData Version: 1.24.0 Maintainer: Vedran Franke MaintainerEmail: vedran.franke at gmail.com