Package: geneLenDataBase Version: 1.28.0 Command: /home/biocbuild/bbs-3.13-bioc/R/bin/R CMD check --install=check:geneLenDataBase.install-out.txt --library=/home/biocbuild/bbs-3.13-bioc/R/library --no-vignettes --timings geneLenDataBase_1.28.0.tar.gz StartedAt: 2021-10-16 13:15:37 -0400 (Sat, 16 Oct 2021) EndedAt: 2021-10-16 13:24:32 -0400 (Sat, 16 Oct 2021) EllapsedTime: 535.2 seconds RetCode: 0 Status: WARNINGS CheckDir: geneLenDataBase.Rcheck Warnings: 1