Package: gatingMLData Version: 2.32.0 Command: /home/biocbuild/bbs-3.13-bioc/R/bin/R CMD INSTALL gatingMLData StartedAt: 2021-10-16 11:04:35 -0400 (Sat, 16 Oct 2021) EndedAt: 2021-10-16 11:04:51 -0400 (Sat, 16 Oct 2021) EllapsedTime: 15.9 seconds RetCode: 0 Status: OK